BEGIN:VCALENDAR
VERSION:2.0
METHOD:PUBLISH
PRODID:-//hacksw/handcal//NONSGML v1.0//EN
BEGIN:VEVENT
DTSTAMP:20260423T085635Z
DTSTART:20260814T140000Z
DTEND:20260816T150000Z
UID:20260814T140000Z-20260816T150000Z-491@www.schwegenheim.de
SUMMARY:Beachhandballturnier
DESCRIPTION:Turnier über alle Altersklassen mit Bewirtung
X-ALT-DESC;FMTTYPE=text/html:<p>Turnier über alle Altersklassen mit Be
 wirtung</p>\n
URL:https://www.schwegenheim.de/kalender/beachhandballturnier/?lang=de
ATTACH:https://www.schwegenheim.de/kalender/beachhandballturnier/?lang
 =de
LOCATION:Beachplatz\, Am Kerweplatz\, Schwegenheim
END:VEVENT
END:VCALENDAR
