BEGIN:VCALENDAR
VERSION:2.0
METHOD:PUBLISH
PRODID:-//hacksw/handcal//NONSGML v1.0//EN
BEGIN:VEVENT
DTSTAMP:20260421T095119Z
DTSTART:20260327T190000Z
DTEND:20260327T210000Z
UID:20260327T190000Z-20260327T210000Z-476@www.schwegenheim.de
SUMMARY:Mitgliederversammlung
DESCRIPTION:Mitgliederversammlung
X-ALT-DESC;FMTTYPE=text/html:<p>Mitgliederversammlung</p>\n
URL:https://www.schwegenheim.de/kalender/mitgliederversammlung-2/?lang
 =de
ATTACH:https://www.schwegenheim.de/kalender/mitgliederversammlung-2/?l
 ang=de
LOCATION:ASV Sportplatz\, An den Hinterwiesen\, Schwegenheim
END:VEVENT
END:VCALENDAR
