BEGIN:VCALENDAR
VERSION:2.0
METHOD:PUBLISH
PRODID:-//hacksw/handcal//NONSGML v1.0//EN
BEGIN:VEVENT
DTSTAMP:20260425T104233Z
DTSTART;VALUE=DATE:20240903
DTEND;VALUE=DATE:20240907
UID:20240902T220000Z-20240906T215959Z-218@www.schwegenheim.de
SUMMARY:Ausflug
DESCRIPTION:
X-ALT-DESC;FMTTYPE=text/html:
URL:https://www.schwegenheim.de/kalender/ausflug-3/?lang=de
ATTACH:https://www.schwegenheim.de/kalender/ausflug-3/?lang=de
END:VEVENT
END:VCALENDAR
